BEGIN:VCALENDAR
PRODID:-//eluceo/ical//2.0/EN
VERSION:2.0
CALSCALE:GREGORIAN
BEGIN:VEVENT
UID:691bc53dda6e87ff7bda392ea2980532
DTSTAMP:20260424T084206Z
SUMMARY:Hållbarhet\, beredskap och lokalt producerad mat
DESCRIPTION:Talare: Susanne Björklund
URL:https://bollnas.rotary2335.se/sv/agenda/show/218438
DTSTART;TZID=Europe/Zurich:20260424T120000
DTEND;TZID=Europe/Zurich:20260424T130000
LOCATION:Scandic Bollnäs
CATEGORIES:Rotary
END:VEVENT
BEGIN:VTIMEZONE
TZID:Europe/Zurich
BEGIN:DAYLIGHT
DTSTART:20260424T120000
TZNAME:CEST
TZOFFSETTO:+0200
TZOFFSETFROM:+0200
END:DAYLIGHT
END:VTIMEZONE
END:VCALENDAR
